BEGIN:VCALENDAR
PRODID:-//kirchenweb.ch gmbh//veranstaltungsausgabe v2.0//DE
VERSION:2.0
METHOD:PUBLISH
BEGIN:VEVENT
DTSTART:20261220T100000Z
DTEND:20261220T110000Z
LOCATION:ref. Kirche Stäfa\, Kirchbühlstrasse 40\, 8712 Stäfa
TRANSP:OPAQUE
SEQUENCE:0
UID:58385-veranstaltung@ref-staefa-hombrechtikon.ch
DTSTAMP:20251226T154100Z
DESCRIPTION:Thema: Mord und Totschlag! – ein adventlicher Gottesdienst
  zum unadventlichen Buch Richter\n\nKontakt: Tobias Kuratle\n\nWeitere
  Infos: https://www.ref-staefa-hombrechtikon.ch/veranstaltung/58385
SUMMARY:Themen-Gottesdienst
PRIORITY:5
X-MICROSOFT-CDO-IMPORTANCE:1
CLASS:PUBLIC
END:VEVENT
END:VCALENDAR
