BEGIN:VCALENDAR
PRODID:-//kirchenweb.ch gmbh//veranstaltungsausgabe v2.0//DE
VERSION:2.0
METHOD:PUBLISH
BEGIN:VEVENT
DTSTART:20261202T174500Z
DTEND:20261202T183000Z
LOCATION:ref. Kirche Hombrechtikon\, Oetwilerstrasse 39\, 8634
  Hombrechtikon
TRANSP:OPAQUE
SEQUENCE:0
UID:58375-veranstaltung@ref-staefa-hombrechtikon.ch
DTSTAMP:20251226T153058Z
DESCRIPTION:Jeweils am Mittwochabend findet während der Adventszeit das
  liturgische Abendgebet statt. Es bietet während rund 20 Minuten die
  Möglichkeit\, mit Orgelmusik und Liedern\, Psalmlesungen und Gebeten\,
  in sich zu kehren\, sich auf das Wesentliche zu konzentrieren und Kraft
  zu schöpfen aus dem Wort Gottes.\n\nKontakt: Monika Götte\n\nWeitere
  Infos: https://www.ref-staefa-hombrechtikon.ch/veranstaltung/58375
SUMMARY:Abendgebet in der Adventszeit
PRIORITY:5
X-MICROSOFT-CDO-IMPORTANCE:1
CLASS:PUBLIC
END:VEVENT
END:VCALENDAR
