BEGIN:VCALENDAR
PRODID:-//kirchenweb.ch gmbh//veranstaltungsausgabe v2.0//DE
VERSION:2.0
METHOD:PUBLISH
BEGIN:VEVENT
DTSTART:20261028T174500Z
DTEND:20261028T184500Z
LOCATION:ref. Kirche Hombrechtikon\, Oetwilerstrasse 39\, 8634
  Hombrechtikon
TRANSP:OPAQUE
SEQUENCE:0
UID:58363-veranstaltung@ref-staefa-hombrechtikon.ch
DTSTAMP:20260224T110602Z
DESCRIPTION:Der Gottesdienst mit Taizéliedern ist ein ruhiger\,
  meditativer Gottesdienst\, der in erster Linie aus den Gesängen der
  Communauté de Taizé\, Predigt und Gebet besteht.\nEin einfacher
  Ablauf\, der sich gleich bleibt\, führt durch die Feier.\n\n\nKontakt:
  David Jäger\n\nWeitere Infos:
  https://www.ref-staefa-hombrechtikon.ch/veranstaltung/58363
SUMMARY:Abendgottesdienst mit Taizéliedern
PRIORITY:5
X-MICROSOFT-CDO-IMPORTANCE:1
CLASS:PUBLIC
END:VEVENT
END:VCALENDAR
