BEGIN:VCALENDAR
PRODID:-//kirchenweb.ch gmbh//veranstaltungsausgabe v2.0//DE
VERSION:2.0
METHOD:PUBLISH
BEGIN:VEVENT
DTSTART:20261018T090000Z
DTEND:20261018T100000Z
LOCATION:ref. Kirche Stäfa\, Kirchbühlstrasse 40\, 8712 Stäfa
TRANSP:OPAQUE
SEQUENCE:0
UID:58359-veranstaltung@ref-staefa-hombrechtikon.ch
DTSTAMP:20251226T151432Z
DESCRIPTION:Thema: Jesus jenseits von Da Vinci Code und Vatikanflüstern\n
 \nWas steckt hinter christlichen Verschwörungstheorien? \n\nKontakt:
  Monika Götte\n\nWeitere Infos:
  https://www.ref-staefa-hombrechtikon.ch/veranstaltung/58359
SUMMARY:Themen-Gottesdienst
PRIORITY:5
X-MICROSOFT-CDO-IMPORTANCE:1
CLASS:PUBLIC
END:VEVENT
END:VCALENDAR
