BEGIN:VCALENDAR
PRODID:-//kirchenweb.ch gmbh//veranstaltungsausgabe v2.0//DE
VERSION:2.0
METHOD:PUBLISH
BEGIN:VEVENT
DTSTART:20260920T071500Z
DTEND:20260920T081500Z
LOCATION:ref. Kirche Hombrechtikon\, Oetwilerstrasse 35\, 8634
  Hombrechtikon
TRANSP:OPAQUE
SEQUENCE:0
UID:58351-veranstaltung@ref-staefa-hombrechtikon.ch
DTSTAMP:20251219T085922Z
DESCRIPTION:Kinder im Gottesdienst\nKinder sind im Gottesdienst herzlich
  willkommen. Beim Eingang der Kirche steht für sie die Kinderecke zur
  Verfügung\, die zum Geschichten hören mit der Tonie-Box\, lesen\, malen
  und leise spielen einlädt. Eltern können in den angrenzenden
  Kirchenbänken unmittelbar daneben gerne Platz nehmen.\n\nKontakt: David
  Jäger\n\nWeitere Infos:
  https://www.ref-staefa-hombrechtikon.ch/veranstaltung/58351
SUMMARY:Gottesdienst mit Abendmahl am Eidg. Dank-\, Buss- und Bettag
PRIORITY:5
X-MICROSOFT-CDO-IMPORTANCE:1
CLASS:PUBLIC
END:VEVENT
END:VCALENDAR
