BEGIN:VCALENDAR
PRODID:-//kirchenweb.ch gmbh//veranstaltungsausgabe v2.0//DE
VERSION:2.0
METHOD:PUBLISH
BEGIN:VEVENT
DTSTART:20260920T090000Z
DTEND:20260920T100000Z
LOCATION:ref. Kirche Stäfa\, Kirchbühlstrasse 40\, 8712 Stäfa
TRANSP:OPAQUE
SEQUENCE:0
UID:58350-veranstaltung@ref-staefa-hombrechtikon.ch
DTSTAMP:20251219T085948Z
DESCRIPTION:Thema: Staat & Kirche - eine (un)heilige Allianz?\n
 \nThemen-Gottesdienst am eidg. Dank- Buss- und Bettag\n\nKontakt: Monika
  Götte\n\nWeitere Infos:
  https://www.ref-staefa-hombrechtikon.ch/veranstaltung/58350
SUMMARY:Themen-Gottesdienst
PRIORITY:5
X-MICROSOFT-CDO-IMPORTANCE:1
CLASS:PUBLIC
END:VEVENT
END:VCALENDAR
