BEGIN:VCALENDAR
PRODID:-//kirchenweb.ch gmbh//veranstaltungsausgabe v2.0//DE
VERSION:2.0
METHOD:PUBLISH
BEGIN:VEVENT
DTSTART:20260802T090000Z
DTEND:20260802T100000Z
LOCATION:ref. Kirche Stäfa\, Kirchbühlstrasse 40\, 8712 Stäfa
TRANSP:OPAQUE
SEQUENCE:0
UID:58335-veranstaltung@ref-staefa-hombrechtikon.ch
DTSTAMP:20251219T085037Z
DESCRIPTION:Kinder im Gottesdienst\nKinder sind im Gottesdienst herzlich
  willkommen. Beim Eingang der Kirche steht für sie die Kinderecke zur
  Verfügung\, die zum Geschichten hören mit der Tonie-Box\, lesen\, malen
  und leise spielen einlädt. Eltern können in den angrenzenden
  Kirchenbänken unmittelbar daneben gerne Platz nehmen.\n\nKontakt: Monika
  Götte\n\nWeitere Infos:
  https://www.ref-staefa-hombrechtikon.ch/veranstaltung/58335
SUMMARY:Gottesdienst mit Abendmahl
PRIORITY:5
X-MICROSOFT-CDO-IMPORTANCE:1
CLASS:PUBLIC
END:VEVENT
END:VCALENDAR
