BEGIN:VCALENDAR
PRODID:-//kirchenweb.ch gmbh//veranstaltungsausgabe v2.0//DE
VERSION:2.0
METHOD:PUBLISH
BEGIN:VEVENT
DTSTART:20260621T090000Z
DTEND:20260621T100000Z
LOCATION:ref. Kirche Stäfa\, Kirchbühlstrasse 40\, 8712 Stäfa
TRANSP:OPAQUE
SEQUENCE:0
UID:58319-veranstaltung@ref-staefa-hombrechtikon.ch
DTSTAMP:20260116T083651Z
DESCRIPTION:Thema: Hoffnung hat kein Ablaufdatum\n\nInfolge des Zürcher
  Sportfest auf Kirchbühl stehen kaum Parkplätze für die
  Gottesdienstbesucher*Innen zur Verfügung.\n\nKinder im Gottesdienst
 \nKinder sind im Gottesdienst herzlich willkommen. Beim Eingang der Kirche
  steht für sie die Kinderecke zur Verfügung\, die zum Geschichten hören
  mit der Tonie-Box\, lesen\, malen und leise spielen einlädt. Eltern
  können in den angrenzenden Kirchenbänken unmittelbar daneben gerne
  Platz nehmen.\n\nKontakt: Elisabeth Görnitz\nMirjam Heilmann\n\nWeitere
  Infos: https://www.ref-staefa-hombrechtikon.ch/veranstaltung/58319
SUMMARY:Themen-Gottesdienst
PRIORITY:5
X-MICROSOFT-CDO-IMPORTANCE:1
CLASS:PUBLIC
END:VEVENT
END:VCALENDAR
