BEGIN:VCALENDAR
PRODID:-//kirchenweb.ch gmbh//veranstaltungsausgabe v2.0//DE
VERSION:2.0
METHOD:PUBLISH
BEGIN:VEVENT
DTSTART:20260621T080000Z
DTEND:20260621T090000Z
LOCATION:ref. Kirche Hombrechtikon\, Oetwilerstrasse 35\, 8634
  Hombrechtikon
TRANSP:OPAQUE
SEQUENCE:0
UID:58318-veranstaltung@ref-staefa-hombrechtikon.ch
DTSTAMP:20260330T155003Z
DESCRIPTION:Im Rahmen des Brunisberg Festes findet ein ökumenischer
  Gottesdienst mit Traktorsegnung statt. Anschliessend gibt es eine
  Burechilbi. \n\nKontakt: Marc Heise\n\nWeitere Infos:
  https://www.ref-staefa-hombrechtikon.ch/veranstaltung/58318
SUMMARY:Gottesdienst Brunisberg
PRIORITY:5
X-MICROSOFT-CDO-IMPORTANCE:1
CLASS:PUBLIC
END:VEVENT
END:VCALENDAR
