BEGIN:VCALENDAR
PRODID:-//kirchenweb.ch gmbh//veranstaltungsausgabe v2.0//DE
VERSION:2.0
METHOD:PUBLISH
BEGIN:VEVENT
DTSTART:20260514T150000Z
DTEND:20260514T160000Z
LOCATION:Pflanzenschau beim Lützelsee\, Grüningerstrasse 100\, 8634
  Hombrechtikon
TRANSP:OPAQUE
SEQUENCE:0
UID:58310-veranstaltung@ref-staefa-hombrechtikon.ch
DTSTAMP:20260327T142225Z
DESCRIPTION:Kinder im Gottesdienst\nKinder sind im Gottesdienst herzlich
  willkommen. Beim Eingang der Kirche steht für sie die Kinderecke zur
  Verfügung\, die zum Geschichten hören mit der Tonie-Box\, lesen\, malen
  und leise spielen einlädt. Eltern können in den angrenzenden
  Kirchenbänken unmittelbar daneben gerne Platz nehmen.\n\nKontakt: Marc
  Heise\n\nWeitere Infos:
  https://www.ref-staefa-hombrechtikon.ch/veranstaltung/58310
SUMMARY:Gottesdienst an Auffahrt
PRIORITY:5
X-MICROSOFT-CDO-IMPORTANCE:1
CLASS:PUBLIC
END:VEVENT
END:VCALENDAR
