BEGIN:VCALENDAR
PRODID:-//kirchenweb.ch gmbh//veranstaltungsausgabe v2.0//DE
VERSION:2.0
METHOD:PUBLISH
BEGIN:VEVENT
DTSTART:20260402T163000Z
DTEND:20260402T173000Z
LOCATION:ref. Kirche Stäfa\, Kirchbühlstrasse 40\, 8712 Stäfa
TRANSP:OPAQUE
SEQUENCE:0
UID:58288-veranstaltung@ref-staefa-hombrechtikon.ch
DTSTAMP:20260312T130500Z
DESCRIPTION:In der Nacht\, da er verraten wurde… beim Hören dieser
  Worte wissen die meisten Menschen\, dass sie zum Abendmahl gehören. Es
  sind die Einsetzungsworte\, wie sie im ersten Korintherbrief zu lesen
  sind. Jesus lädt die Jünger und Jüngerinnen ein – ein letztes Mal.
  Dass es wirklich das letzte Mal ist\, weiss nur er. Die Jüngerinnen und
  Jünger ahnen\, dass etwas bevorsteht\, auch wenn sie nicht begreifen\,
  was auf sie zukommt. Dreimal hat Jesus ihnen seinen Tod angekündigt. Sie
  haben die Worte mit ihren Ohren gehört\, doch verstanden haben sie sie
  nicht. \n\nVielleicht lag da dieses dumpfe Gefühl in der Herzgegend\,
  dass wir auch kennen\, wenn wir etwas hören\, das wir nicht verstehen
  oder nicht wahrhaben wollen\, wenn sich etwas Schweres ankündigt\, das
  wir lieber verdrängen oder vergessen möchten. So mag es auch den
  Jüngerinnen und Jüngern in jener Nacht vor Jesu Tod am Kreuz ergangen
  sein. Und so sassen sie mit Jesus zusammen\, assen und tranken.\n\nIn der
  Kirche Stäfa wollen wir an Gründonnerstag der Dunkelheit und dem
  bevorstehenden schweren Raum geben – mit Texten und Liedern und dem
  Feiern des Abendmahls. Anschliessend teilen wir unser Essen\, wie es
  viele Christinnen und Christen vor uns getan haben und bis heute tun.
  Für die Teiletä bringen alle etwas zu essen mit\, das wir dann
  gemeinsam teilen und zusammen essen. Eine Anmeldung ist nicht nötig. \n
 \nZeit: 18.30\nOrt: Kirche Stäfa\n\nTeiletä: Anschliessend an die
  Andacht im Forum\n\nKinder im Gottesdienst\nKinder sind im Gottesdienst
  herzlich willkommen. Beim Eingang der Kirche steht für sie die
  Kinderecke zur Verfügung\, die zum Geschichten hören mit der
  Tonie-Box\, lesen\, malen und leise spielen einlädt. Eltern können in
  den angrenzenden Kirchenbänken unmittelbar daneben gerne Platz nehmen.\n
 \nKontakt: Mirjam Heilmann\n\nWeitere Infos:
  https://www.ref-staefa-hombrechtikon.ch/veranstaltung/58288
SUMMARY:Vesper am Gründonnerstag mit Abendmahl anschliessend Teilete
PRIORITY:5
X-MICROSOFT-CDO-IMPORTANCE:1
CLASS:PUBLIC
END:VEVENT
END:VCALENDAR
