BEGIN:VCALENDAR
PRODID:-//kirchenweb.ch gmbh//veranstaltungsausgabe v2.0//DE
VERSION:2.0
METHOD:PUBLISH
BEGIN:VEVENT
DTSTART:20260401T164500Z
DTEND:20260401T173000Z
LOCATION:ref. Kirche Stäfa\, Kirchbühlstrasse 40\, 8712 Stäfa
TRANSP:OPAQUE
SEQUENCE:0
UID:58287-veranstaltung@ref-staefa-hombrechtikon.ch
DTSTAMP:20251016T124614Z
DESCRIPTION:Jeweils am Mittwochabend findet während der Passionszeit das
  liturgische Abendgebet statt. Es bietet während rund 20 Minuten die
  Möglichkeit\, mit Orgelmusik und Liedern\, Psalmlesungen und Gebeten\,
  in sich zu kehren\, sich auf das Wesentliche zu konzentrieren und Kraft
  zu schöpfen aus dem Wort Gottes.\n\nKontakt: Mirjam Heilmann\n\nWeitere
  Infos: https://www.ref-staefa-hombrechtikon.ch/veranstaltung/58287
SUMMARY:Abendgebet in der Passionszeit
PRIORITY:5
X-MICROSOFT-CDO-IMPORTANCE:1
CLASS:PUBLIC
END:VEVENT
END:VCALENDAR
