BEGIN:VCALENDAR
PRODID:-//kirchenweb.ch gmbh//veranstaltungsausgabe v2.0//DE
VERSION:2.0
METHOD:PUBLISH
BEGIN:VEVENT
DTSTART:20260315T100000Z
DTEND:20260315T110000Z
LOCATION:ref. Kirche Stäfa\, Kirchbühlstrasse 40\, 8712 Stäfa
TRANSP:OPAQUE
SEQUENCE:0
UID:58280-veranstaltung@ref-staefa-hombrechtikon.ch
DTSTAMP:20260309T162154Z
DESCRIPTION:Thema:\nDie in Zürich machen ja eh\, was sie wollen! \n
 \nVielleicht haben Sie auch schon die Zeitung\, das reformiert. oder
  reformiert.lokal aufgeschlagen und gedacht: «Die in
  Washington/Brüssel/Bern/Zürich/Stäfa machen ja eh\, was sie wollen».
  Obwohl wir in einer direkten Demokratie leben und Macht so gut wie
  möglich verteilen und absichern\, gibt es bisweilen Momente\, in denen
  wir uns ohnmächtig und «da oben» nicht richtig vertreten fühlen. Am
  Themengottesdienst vom 15. März wird uns Kirchenrat Bruno Kleeb einen
  Einblick in seine Arbeit in Zürich geben\, aufzeigen\, warum auch er
  nicht immer machen kann\, was er will und wir werden den Fragen von Macht
  und Ohnmacht nachgehen und fragen\, ob «da oben» vielleicht eben doch
  einer für uns einsteht.\n\nVor dem Gottesdienst sind alle herzlich zum
  Konf-Zmorgen für die ganze Gemeinde eingeladen\, dort besteht auch die
  Möglichkeit mit Bruno Kleeb persönlich ins Gespräch zu kommen und
  eigene Fragen zu unserer Landeskirche zu stellen.\n\nMit Kirchenrat Bruno
  Kleeb\n\nKontakt: Tobias Kuratle\n\nWeitere Infos:
  https://www.ref-staefa-hombrechtikon.ch/veranstaltung/58280
SUMMARY:Themen-Gottesdienst
PRIORITY:5
X-MICROSOFT-CDO-IMPORTANCE:1
CLASS:PUBLIC
END:VEVENT
END:VCALENDAR
