BEGIN:VCALENDAR
PRODID:-//kirchenweb.ch gmbh//veranstaltungsausgabe v2.0//DE
VERSION:2.0
METHOD:PUBLISH
BEGIN:VEVENT
DTSTART:20260512T100000Z
DTEND:20260512T120000Z
LOCATION:Kirchgemeindehaus Blatten\, Bahnweg 6\, 8634 Hombrechtikon
TRANSP:OPAQUE
SEQUENCE:0
UID:58191-veranstaltung@ref-staefa-hombrechtikon.ch
DTSTAMP:20260421T091421Z
DESCRIPTION:Ausgebucht\nEinmal monatlich findet im Kirchgemeindehaus
  Blatten in Hombrechtikon ein Mittagstisch statt. Freiwillige kochen einen
  feinen Zmittag (Vegi oder mit Fleisch). Gross und Klein\, Jung und Alt
  sind willkommen. Einmal nicht selbst kochen\, einfach nur kommen\, an den
  gedeckten Tisch sitzen und mit anderen gemeinsam essen.\n\nMenu\nSalat
 \nSpaghettiplausch\nDessert und Kaffee\n\nFür die Mittagessen steht ein
  Kässeli bereit\nErwachsene 8.- / Kinder 5.-\n\n\nweitere Termine:\n\n
 \nKontakt: Ursula Pernet\n\nWeitere Infos:
  https://www.ref-staefa-hombrechtikon.ch/veranstaltung/58191
SUMMARY:Mittagstisch Hombrechtikon
PRIORITY:5
X-MICROSOFT-CDO-IMPORTANCE:1
CLASS:PUBLIC
END:VEVENT
END:VCALENDAR
