BEGIN:VCALENDAR
PRODID:-//kirchenweb.ch gmbh//veranstaltungsausgabe v2.0//DE
VERSION:2.0
METHOD:PUBLISH
BEGIN:VEVENT
DTSTART:20260819T073000Z
DTEND:20260819T080000Z
LOCATION:Forum Kirchbühl Stäfa\, Kirchbühlstrasse 40\, 8712 Stäfa
TRANSP:OPAQUE
SEQUENCE:0
UID:58121-veranstaltung@ref-staefa-hombrechtikon.ch
DTSTAMP:20250409T065801Z
DESCRIPTION:Für Erwachsene mit Kindern ab ca. 1 Jahr.\nDas Singen wird
  vom Müüsli Trullala begleitet.\nWir singen alte und neue Kinderlieder\,
  lernen Abzählreime und Kniereiter und geniessen einen gemeinsamen
  Znüni.\n\nEinstieg jederzeit möglich.\n\nKontakt: Corina Hungerbühler
 \n\nWeitere Infos:
  https://www.ref-staefa-hombrechtikon.ch/veranstaltung/58121
SUMMARY:Singe mit de Chliinschte
PRIORITY:5
X-MICROSOFT-CDO-IMPORTANCE:1
CLASS:PUBLIC
END:VEVENT
END:VCALENDAR
