BEGIN:VCALENDAR
PRODID:-//kirchenweb.ch gmbh//veranstaltungsausgabe v2.0//DE
VERSION:2.0
METHOD:PUBLISH
BEGIN:VEVENT
DTSTART:20260315T083000Z
DTEND:20260315T110000Z
LOCATION:ref. Kirche Stäfa\, Kirchbühlstrasse 40\, 8712 Stäfa
TRANSP:OPAQUE
SEQUENCE:0
UID:57817-veranstaltung@ref-staefa-hombrechtikon.ch
DTSTAMP:20260314T155403Z
DESCRIPTION:Der Konf-Zmorge ist für die ganze Gemeinde geöffnet. Bei
  einem einfachen Zmorge beginnen wir den Sonntag gemeinsam. Gemeinde und
  Konfirmandinnen und Konfirmanden haben die Möglichkeit einander zu
  beschnuppern. Um 11.00 Uhr feiern wir den Gottesdienst in der Kirche. Wir
  freuen uns auf viele Mitzmörgelerinnen und Mitzmörgeler!\n\nFür unsere
  Könfis ist der Zmorge Teil des Unti.\n\nKontakt: Elisabeth Görnitz
 \nTobias Kuratle\n\nWeitere Infos:
  https://www.ref-staefa-hombrechtikon.ch/veranstaltung/57817
SUMMARY:Konf-Zmorge für die ganze Gemeinde
PRIORITY:5
X-MICROSOFT-CDO-IMPORTANCE:1
CLASS:PUBLIC
END:VEVENT
END:VCALENDAR
