BEGIN:VCALENDAR
PRODID:-//kirchenweb.ch gmbh//veranstaltungsausgabe v2.0//DE
VERSION:2.0
METHOD:PUBLISH
BEGIN:VEVENT
DTSTART:20260620T073000Z
DTEND:20260620T120000Z
LOCATION:Forum Kirchbühl Stäfa\, Kirchbühlstrasse 40\, 8712 Stäfa
TRANSP:OPAQUE
SEQUENCE:0
UID:57810-veranstaltung@ref-staefa-hombrechtikon.ch
DTSTAMP:20251107T153503Z
DESCRIPTION:Es ist soweit: Die «Türe zur Konfirmation» öffnet sich und
  Du bekommst einen Vorgeschmack aufs Konfjahr. An diesem Tag kommt der
  zukünftige Konf-Jahrgang ein erstes Mal zusammen und dazu laden wir Dich
  herzlich ein. Ihr lernt einander und das Konf-Team kennen. Ausserdem
  erkundet ihr spielerisch die Kirchgemeinde. Das genaue Programm wird noch
  nicht verraten\, aber wir garantieren dir Vorfreude aufs Konf-Jahr.\n
 \nKontakt: Elisabeth Görnitz\nTobias Kuratle\n\nWeitere Infos:
  https://www.ref-staefa-hombrechtikon.ch/veranstaltung/57810
SUMMARY:Konf(i)türe
PRIORITY:5
X-MICROSOFT-CDO-IMPORTANCE:1
CLASS:PUBLIC
END:VEVENT
END:VCALENDAR
