BEGIN:VCALENDAR
PRODID:-//kirchenweb.ch gmbh//veranstaltungsausgabe v2.0//DE
VERSION:2.0
METHOD:PUBLISH
BEGIN:VEVENT
DTSTART:20261026T183000Z
DTEND:20261026T201500Z
LOCATION:Forum Kirchbühl\, Saal\, Kirchbühlstrasse 40\, 8712 Stäfa
TRANSP:OPAQUE
SEQUENCE:0
UID:57767-veranstaltung@ref-staefa-hombrechtikon.ch
DTSTAMP:20250710T094917Z
DESCRIPTION:Kontakt: Luzius Appenzeller\, 044 910 08 63 \n\nWeitere Infos:
  https://www.ref-staefa-hombrechtikon.ch/veranstaltung/57767
SUMMARY:Kirchenchor: Probe (prov)
PRIORITY:5
X-MICROSOFT-CDO-IMPORTANCE:1
CLASS:PUBLIC
END:VEVENT
END:VCALENDAR
