BEGIN:VCALENDAR
PRODID:-//kirchenweb.ch gmbh//veranstaltungsausgabe v2.0//DE
VERSION:2.0
METHOD:PUBLISH
BEGIN:VEVENT
DTSTART:20260511T173000Z
DTEND:20260511T194500Z
LOCATION:Kirche\, Kirchbühlstrasse 40\, 8712 Stäfa
TRANSP:OPAQUE
SEQUENCE:0
UID:57749-veranstaltung@ref-staefa-hombrechtikon.ch
DTSTAMP:20260304T193523Z
DESCRIPTION:Kontakt: Appenzeller Luzius\, 044 910 08 63 \n\nWeitere Infos:
  https://www.ref-staefa-hombrechtikon.ch/veranstaltung/57749
SUMMARY:Kirchenchor: Probe Kirche
PRIORITY:5
X-MICROSOFT-CDO-IMPORTANCE:1
CLASS:PUBLIC
END:VEVENT
END:VCALENDAR
