BEGIN:VCALENDAR
PRODID:-//kirchenweb.ch gmbh//veranstaltungsausgabe v2.0//DE
VERSION:2.0
METHOD:PUBLISH
BEGIN:VEVENT
DTSTART:20260311T173000Z
DTEND:20260311T183000Z
LOCATION:Pfarrhauskeller Stäfa\, Kirchbühlstrasse 40\, 8712 Stäfa
TRANSP:OPAQUE
SEQUENCE:0
UID:57686-veranstaltung@ref-staefa-hombrechtikon.ch
DTSTAMP:20260209T162324Z
DESCRIPTION:Eine Woche innehalten. Eine Woche bewusster leben.\n\nIn
  unserer Fastenwoche laden wir dazu ein\, Gewohnheiten zu unterbrechen und
  durch Verzicht auf Überflüssiges Raum zu schaffen für das\, was
  wesentlich ist. Im Fasten wollen wir wahrnehmen\, was uns wirklich
  trägt\, nährt und erfüllt.\n\nDu entscheidest\, worauf du verzichtest:
  sei es auf bestimmte Lebensmittel wie Fleisch\, Alkohol oder
  Süssigkeiten\, auf Genussmittel wie Kaffee oder Süsses\, auf
  Gewohnheiten wie soziale Medien oder das Auto. Auch Zeitfresser oder
  Routinen\, die deinen Alltag bestimmen\, können bewusst losgelassen
  werden. Alle Formen des Verzichts sind willkommen.\n\nIn dieser Woche
  laden wir täglich zu einem Impuls und zum gemeinsamen Austausch ein. Wir
  hören Anregungen\, teilen Erfahrungen und ermutigen uns gegenseitig\,
  den eigenen Weg des Verzichts zu gehen und neue Perspektiven zu
  entdecken\, sodass wir gestärkt in den nächsten Tag gehen.\nDie
  Fastenwoche ist offen für alle – unabhängig von Erfahrung mit Fasten
  oder persönlicher Glaubenspraxis.\n\nWir laden herzlich ein\, zu
  entdecken\, wie aus Weniger mehr werden kann.\n\nAuf die gemeinsame
  Fastenzeit freut sich\nPfarrerin Elisabeth Görnitz\n\nKontakt: Elisabeth
  Görnitz\n\nWeitere Infos:
  https://www.ref-staefa-hombrechtikon.ch/veranstaltung/57686
SUMMARY:Fastenwoche
PRIORITY:5
X-MICROSOFT-CDO-IMPORTANCE:1
CLASS:PUBLIC
END:VEVENT
END:VCALENDAR
