BEGIN:VCALENDAR
PRODID:-//kirchenweb.ch gmbh//veranstaltungsausgabe v2.0//DE
VERSION:2.0
METHOD:PUBLISH
BEGIN:VEVENT
DTSTART:20260619T160000Z
DTEND:20260619T183000Z
LOCATION:Kirchgemeindehaus Blatten\, Bahnweg 6\, 8634 Hombrechtikon
TRANSP:OPAQUE
SEQUENCE:0
UID:57540-veranstaltung@ref-staefa-hombrechtikon.ch
DTSTAMP:20250912T064526Z
DESCRIPTION:SpiritFritig– Input\, Action & Fun!\n\nLust auf einen coolen
  Start ins Wochenende? Dann komm vorbei! Dich erwartet ein spannender
  kurzer Input\, danach geht’s weiter mit verschiedenen Aktivitäten\,
  Spielen und jede Menge Spaß und einem Snack für Zwischendurch.\nEin
  Abend zum Abschalten\, Lachen und Gemeinschaft erleben!\nKomm vorbei und
  sei dabei – wir freuen uns auf dich!\n\nWann?\nVon 18.00 - 20.30 Uhr im
  Jugendraum Kirchgemeindehaus Blatten Hombrechtikon\n\nWir verschicken
  jeweils ein paar Tage vor dem SpiritFritig eine Einladung mit
  Anmeldebutton.\n\nKontakt: Kathrin Caspani\n\nWeitere Infos:
  https://www.ref-staefa-hombrechtikon.ch/veranstaltung/57540
SUMMARY:SpiritFritig Hombi
PRIORITY:5
X-MICROSOFT-CDO-IMPORTANCE:1
CLASS:PUBLIC
END:VEVENT
END:VCALENDAR
