BEGIN:VCALENDAR
PRODID:-//kirchenweb.ch gmbh//veranstaltungsausgabe v2.0//DE
VERSION:2.0
METHOD:PUBLISH
BEGIN:VEVENT
DTSTART:20260629T100000Z
DTEND:20260629T113000Z
LOCATION:Kirchgemeindehaus Blatten\, Bahnweg 6\, 8634 Hombrechtikon
TRANSP:OPAQUE
SEQUENCE:0
UID:57172-veranstaltung@ref-staefa-hombrechtikon.ch
DTSTAMP:20250929T133754Z
DESCRIPTION:Kontakt: Kathrin Caspani\n\nWeitere Infos:
  https://www.ref-staefa-hombrechtikon.ch/veranstaltung/57172
SUMMARY:2./3. Kl. Zmittagsunti Hombi
PRIORITY:5
X-MICROSOFT-CDO-IMPORTANCE:1
CLASS:PUBLIC
END:VEVENT
END:VCALENDAR
