BEGIN:VCALENDAR
PRODID:-//kirchenweb.ch gmbh//veranstaltungsausgabe v2.0//DE
VERSION:2.0
METHOD:PUBLISH
BEGIN:VEVENT
DTSTART:20260410T220100Z
DTEND:20260411T060000Z
LOCATION:ref. Kirche Hombrechtikon\, Oetwilerstrasse 39\, 8634
  Hombrechtikon
TRANSP:OPAQUE
SEQUENCE:0
UID:57144-veranstaltung@ref-staefa-hombrechtikon.ch
DTSTAMP:20250617T130214Z
DESCRIPTION:Kontakt: Kathrin Caspani\n\nWeitere Infos:
  https://www.ref-staefa-hombrechtikon.ch/veranstaltung/57144
SUMMARY:Spirit Paulus Film & Übernachten Kirche Hombi
PRIORITY:5
X-MICROSOFT-CDO-IMPORTANCE:1
CLASS:PUBLIC
END:VEVENT
END:VCALENDAR
