BEGIN:VCALENDAR
PRODID:-//kirchenweb.ch gmbh//veranstaltungsausgabe v2.0//DE
VERSION:2.0
METHOD:PUBLISH
BEGIN:VEVENT
DTSTART:20260518T140000Z
DTEND:20260518T154500Z
LOCATION:Forum Kirchbühl Stäfa\, Kirchbühlstrasse 40\, 8712 Stäfa
TRANSP:OPAQUE
SEQUENCE:0
UID:57034-veranstaltung@ref-staefa-hombrechtikon.ch
DTSTAMP:20260320T131800Z
DESCRIPTION:Kontakt: Marina Wikart\n\nWeitere Infos:
  https://www.ref-staefa-hombrechtikon.ch/veranstaltung/57034
SUMMARY:2./3.Kl. Unti Stäfa
PRIORITY:5
X-MICROSOFT-CDO-IMPORTANCE:1
CLASS:PUBLIC
END:VEVENT
END:VCALENDAR
