BEGIN:VCALENDAR
PRODID:-//kirchenweb.ch gmbh//veranstaltungsausgabe v2.0//DE
VERSION:2.0
METHOD:PUBLISH
BEGIN:VEVENT
DTSTART:20250108T054500Z
DTEND:20250108T063000Z
LOCATION:Forum Kirchbühl Stäfa\, Kirchbühlstrasse 40\, 8712 Stäfa
TRANSP:OPAQUE
SEQUENCE:0
UID:56692-veranstaltung@ref-staefa-hombrechtikon.ch
DTSTAMP:20250109T163118Z
DESCRIPTION:Gott des Lichts\,\nwecke unsere Lebensfreude\,\nbegleite uns
  an diesem Tag\,\nhilf uns in allen Aufgaben und Entscheidungen\,\nlass
  uns deinen Willen erkennen und tun.\n\nJeden zweiten Mittwochmorgen
  beginnen wir unseren Tag im Pfarrhauskeller mit den Losungen\, Lieder\,
  einem Bibeltext und Gebeten. Wir beten für unsere Gemeinde\, unser Land
  und für unsere Nächsten in Not sowie die eigenen Bedürfnisse. Nach
  einem kurzen Austauschen kehren wir bereichert und getragen in den Alltag
  zurück.\n\nWer mag\, schliesst das Treffen mit einem Kaffee oder Tee im
  Forum ab.\n\nKontakt: Martin Kuprecht. 044 926 70 49\n\nWeitere Infos:
  https://www.ref-staefa-hombrechtikon.ch/veranstaltung/56692
SUMMARY:Frühgebet für die Kirchgemeinde
PRIORITY:5
X-MICROSOFT-CDO-IMPORTANCE:1
CLASS:PUBLIC
END:VEVENT
END:VCALENDAR
