BEGIN:VCALENDAR
PRODID:-//kirchenweb.ch gmbh//veranstaltungsausgabe v2.0//DE
VERSION:2.0
METHOD:PUBLISH
BEGIN:VEVENT
DTSTART:20260613T070000Z
DTEND:20260613T100000Z
LOCATION:Kirchgemeindehaus Blatten\, Bahnweg 6\, 8634 Hombrechtikon
TRANSP:OPAQUE
SEQUENCE:0
UID:56681-veranstaltung@ref-staefa-hombrechtikon.ch
DTSTAMP:20250602T184028Z
DESCRIPTION:Kontakt: Marina Wikart\n\nWeitere Infos:
  https://www.ref-staefa-hombrechtikon.ch/veranstaltung/56681
SUMMARY:Prisma4 David2 Hombi
PRIORITY:5
X-MICROSOFT-CDO-IMPORTANCE:1
CLASS:PUBLIC
END:VEVENT
END:VCALENDAR
