BEGIN:VCALENDAR
PRODID:-//kirchenweb.ch gmbh//veranstaltungsausgabe v2.0//DE
VERSION:2.0
METHOD:PUBLISH
BEGIN:VEVENT
DTSTART:20250106T183000Z
DTEND:20250106T201500Z
LOCATION:Forum Kirchbühl\, Saal\, Kirchbühlstrasse 40\, 8712 Stäfa
TRANSP:OPAQUE
SEQUENCE:0
UID:56656-veranstaltung@ref-staefa-hombrechtikon.ch
DTSTAMP:20241223T064416Z
DESCRIPTION:Kontakt: Luzius Appenzeller\, 044 910 08 63 \n\nWeitere Infos:
  https://www.ref-staefa-hombrechtikon.ch/veranstaltung/56656
SUMMARY:Kirchenchor Stäfa: Probe
PRIORITY:5
X-MICROSOFT-CDO-IMPORTANCE:1
CLASS:PUBLIC
END:VEVENT
END:VCALENDAR
