BEGIN:VCALENDAR
PRODID:-//kirchenweb.ch gmbh//veranstaltungsausgabe v2.0//DE
VERSION:2.0
METHOD:PUBLISH
BEGIN:VEVENT
DTSTART:20250105T091500Z
DTEND:20250105T101500Z
LOCATION:ref. Kirche Hombrechtikon / Annex\, Oetwilerstrasse 39\, 8634
  Hombrechtikon
TRANSP:OPAQUE
SEQUENCE:0
UID:56407-veranstaltung@ref-staefa-hombrechtikon.ch
DTSTAMP:20241205T164422Z
DESCRIPTION:Kontakt: Christian Walliker\n\nWeitere Infos:
  https://www.ref-staefa-hombrechtikon.ch/veranstaltung/56407
SUMMARY:Kirchenkaffee
PRIORITY:5
X-MICROSOFT-CDO-IMPORTANCE:1
CLASS:PUBLIC
END:VEVENT
END:VCALENDAR
