BEGIN:VCALENDAR
PRODID:-//kirchenweb.ch gmbh//veranstaltungsausgabe v2.0//DE
VERSION:2.0
METHOD:PUBLISH
BEGIN:VEVENT
DTSTART:20260313T183000Z
DTEND:20260313T193000Z
LOCATION:Gemeindesaal Obstgarten \, Tränkebachstrasse 39\, 8712 Stäfa
TRANSP:OPAQUE
SEQUENCE:0
UID:55881-veranstaltung@ref-staefa-hombrechtikon.ch
DTSTAMP:20260226T132447Z
DESCRIPTION:Neugier und Spielfreude\n\nEin Konzert in Zusammenarbeit mit
  der Lesegesellschaft Stäfa\n\nDas Ensemble Arcimboldo wurde 1991 von
  Thilo Hirsch gegründet. Der Name des Renaissancemalers Giuseppe
  Arcimboldo\, der vor allem durch seine Frucht- und Blumenportraits
  bekannt wurde\, spiegelt die Grundidee des Ensembles: das Verschmelzen
  verschiedener Elemente zu einem neuen\, überraschenden Ganzen. Gemeinsam
  ist allen Musikerinnen und Musikern des Ensembles das Interesse für
  unbekannte Klänge und Instrumente\, sind sie doch Spezialist:innen ihres
  Fachs und haben alle Alte Musik studiert.\n\nEines ihrer
  Klangforschungsprojekte dreht sich um die Musik der Bogenhauser
  Künstlerkapelle (1899 bis 1939)\, die mit ihrer «althistorischen»
  Besetzung von vier Blockflöten\, Bogengitarre\, Trumscheit und Pauken
  einzigartig ist in der Geschichte der Volksmusik und der Alten Musik. \n
 \nDas Ensemble Arcimboldo bringt das Repertoire der Kapelle\, das von
  bayrischer Volksmusik bis hin zur Romantik reicht\, in der
  Originalbesetzung wieder zum Klingen.\n\nAndreas Böhlen und Raphael
  Meyer - Alt-Blockflöten\nHans-Christof Maier - Tenor-Blockflöte\nMarc
  Pauchard - Bass-Blockflöte\, Kuckuck\nKarel Fleischlinger - Bogengitarre
 \nThilo Hirsch -  Trumscheit\, Stimme\, Leitung\nFelix Eberle - Pauken\,
  Triangel\, Kuhschellen\, Löffel\n\nKonzert mit Pause\n\nKontakt: Evelyne
  Lott\n\nWeitere Infos:
  https://www.ref-staefa-hombrechtikon.ch/veranstaltung/55881
SUMMARY:Konzert des Ensemble Arcimboldo
PRIORITY:5
X-MICROSOFT-CDO-IMPORTANCE:1
CLASS:PUBLIC
END:VEVENT
END:VCALENDAR
