BEGIN:VCALENDAR
PRODID:-//kirchenweb.ch gmbh//veranstaltungsausgabe v2.0//DE
VERSION:2.0
METHOD:PUBLISH
BEGIN:VEVENT
DTSTART:20250107T180000Z
DTEND:20250107T200000Z
LOCATION:Kirchgemeindehaus Blatten\, Bahnweg 6\, 8634 Hombrechtikon
TRANSP:OPAQUE
SEQUENCE:0
UID:55637-veranstaltung@ref-staefa-hombrechtikon.ch
DTSTAMP:20241006T110307Z
DESCRIPTION:Bist Du kreativ\, handwerklich begabt und hast Freude daran\,
  aktiv etwas zu verschönern? Wenn Du gerne Deine kreativen Fähigkeiten
  einbringen möchtest\, dann bist Du bei uns genau richtig! Unser New
  Ground Kreativ-Team sucht engagierte Menschen für gemeinsame Projekte\,
  bei denen Kreativität und Gestaltung im Vordergrund stehen.\n\nWir
  treffen uns regelmässig einmal im Monat\, um gemeinsam am Projekt zu
  arbeiten. Die Treffen sind offen gestaltet\, sodass man jederzeit
  dazustossen kann. Interessierte Personen sind in unserer Gruppe jederzeit
  herzlich willkommen!\n\nKontakt: \n\nWeitere Infos:
  https://www.ref-staefa-hombrechtikon.ch/veranstaltung/55637
SUMMARY:New Ground - Kreativ-Team Treffen
PRIORITY:5
X-MICROSOFT-CDO-IMPORTANCE:1
CLASS:PUBLIC
END:VEVENT
END:VCALENDAR
