BEGIN:VCALENDAR
PRODID:-//kirchenweb.ch gmbh//veranstaltungsausgabe v2.0//DE
VERSION:2.0
METHOD:PUBLISH
BEGIN:VEVENT
DTSTART:20250101T170000Z
DTEND:20250101T180000Z
LOCATION:ref. Kirche Hombrechtikon\, Oetwilerstrasse 39\, 8634
  Hombrechtikon
TRANSP:OPAQUE
SEQUENCE:0
UID:55435-veranstaltung@ref-staefa-hombrechtikon.ch
DTSTAMP:20241202T134407Z
DESCRIPTION:Kontakt: Evelyne Lott\n\nWeitere Infos:
  https://www.ref-staefa-hombrechtikon.ch/veranstaltung/55435
SUMMARY:Neujahrs-Apéro
PRIORITY:5
X-MICROSOFT-CDO-IMPORTANCE:1
CLASS:PUBLIC
END:VEVENT
END:VCALENDAR
