BEGIN:VCALENDAR
PRODID:-//kirchenweb.ch gmbh//veranstaltungsausgabe v2.0//DE
VERSION:2.0
METHOD:PUBLISH
BEGIN:VEVENT
DTSTART:20250107T130000Z
DTEND:20250107T160000Z
LOCATION:Forum Kirchbühl\, Kirchbühlstrasse 40\, 8712 Stäfa
TRANSP:OPAQUE
SEQUENCE:0
UID:55011-veranstaltung@ref-staefa-hombrechtikon.ch
DTSTAMP:20240628T152240Z
DESCRIPTION:Jeweils am zweiten Dienstagnachmittag (ausser während den
  Schulferien) kommen spiel- und jassbegeisterte Menschen jeden Alters auf
  ihre Rechnung! Alle spielfreudigen Personen\, welche gerne mit anderen
  spielen und jassen\, sind bei uns im Forum Kirchbühl willkommen. Viele
  Spiele wie Lotto\, Scrabble\, Rummy\, Brändi Dog oder Halma sind
  vorhanden\, aber auch für die Jasser liegen die Karten\, der Jassteppich
  und die Kreide bereit. Es ist keine Anmeldung nötig\, der Anlass ist
  kostenlos – wir freuen uns auf Sie!\n\nÜbrigens: Wir sind sehr daran
  interessiert\, neue spielbegeisterte Frauen und Männer\, in unserem
  Vorbereitungsteam willkommen zu heissen! \n\nKontakt: Monika Kaspar
 \nMonika Kaspar\n\nWeitere Infos:
  https://www.ref-staefa-hombrechtikon.ch/veranstaltung/55011
SUMMARY:Spielen & Jassen im Forum Kirchbühl
PRIORITY:5
X-MICROSOFT-CDO-IMPORTANCE:1
CLASS:PUBLIC
END:VEVENT
END:VCALENDAR
