BEGIN:VCALENDAR
PRODID:-//kirchenweb.ch gmbh//veranstaltungsausgabe v2.0//DE
VERSION:2.0
METHOD:PUBLISH
BEGIN:VEVENT
DTSTART:20260607T080000Z
DTEND:20260607T090000Z
LOCATION:ref. Kirche Hombrechtikon\, Oetwilerstrasse 39\, 8634
  Hombrechtikon
TRANSP:OPAQUE
SEQUENCE:0
UID:54874-veranstaltung@ref-staefa-hombrechtikon.ch
DTSTAMP:20260210T155726Z
DESCRIPTION:Kontakt: Elisabeth Görnitz\, \nTobias Kuratle\n\nWeitere
  Infos: https://www.ref-staefa-hombrechtikon.ch/veranstaltung/54874
SUMMARY:Konfirmations-Gottesdienst
PRIORITY:5
X-MICROSOFT-CDO-IMPORTANCE:1
CLASS:PUBLIC
END:VEVENT
END:VCALENDAR
