BEGIN:VCALENDAR
PRODID:-//kirchenweb.ch gmbh//veranstaltungsausgabe v2.0//DE
VERSION:2.0
METHOD:PUBLISH
BEGIN:VEVENT
DTSTART:20260329T150000Z
DTEND:20260329T173000Z
LOCATION:Forum Kirchbühl Stäfa\, \,
TRANSP:OPAQUE
SEQUENCE:0
UID:54823-veranstaltung@ref-staefa-hombrechtikon.ch
DTSTAMP:20260331T175653Z
DESCRIPTION:Gottes Schöpfung summt und brummt\n\nMit dem
  Frühlingsanbruch tummeln sich allerlei Tiere zwischen Blumen und
  Bäumen\, und die Luft füllt sich mit dem Gezwitscher der Vögel. So
  wollen wir heute Gottes bunte Schöpfung bestaunen. Wir werden unter
  anderem Bienen basteln\, Kräuter sammeln\, hüpfen\, springen und
  natürlich Gott danken für all das\, womit wir beschenkt sind.\nNach der
  kreativ-spielerischen Ankommenszeit feiern wir einen kurzen Gottesdienst
  und lassen den Abend bei einem feinen Znacht ausklingen. Fürs Znacht
  bitten wir um eine Anmeldung (siehe das Formular unten)\n\nWir freuen uns
  auf euch!\n\n\nKontakt: Elisabeth Görnitz\n\nWeitere Infos:
  https://www.ref-staefa-hombrechtikon.ch/veranstaltung/54823
SUMMARY:Kirche Kunterbunt
PRIORITY:5
X-MICROSOFT-CDO-IMPORTANCE:1
CLASS:PUBLIC
END:VEVENT
END:VCALENDAR
