BEGIN:VCALENDAR
PRODID:-//kirchenweb.ch gmbh//veranstaltungsausgabe v2.0//DE
VERSION:2.0
METHOD:PUBLISH
BEGIN:VEVENT
DTSTART:20260311T183000Z
DTEND:20260311T201500Z
LOCATION:Kirchgemeindehaus Blatten\, Bahnweg 6\, 8634 Hombrechtikon
TRANSP:OPAQUE
SEQUENCE:0
UID:54821-veranstaltung@ref-staefa-hombrechtikon.ch
DTSTAMP:20250812T133011Z
DESCRIPTION:Kontakt: Christian Bielefeldt\, Tel. 078 405 74 54 \n\nWeitere
  Infos: https://www.ref-staefa-hombrechtikon.ch/veranstaltung/54821
SUMMARY:ref. Kirchenchor Hombrechtikon Probe
PRIORITY:5
X-MICROSOFT-CDO-IMPORTANCE:1
CLASS:PUBLIC
END:VEVENT
END:VCALENDAR
