BEGIN:VCALENDAR
PRODID:-//kirchenweb.ch gmbh//veranstaltungsausgabe v2.0//DE
VERSION:2.0
METHOD:PUBLISH
BEGIN:VEVENT
DTSTART:20260509T070000Z
DTEND:20260509T100000Z
LOCATION:Kirchgemeindehaus Blatten\, Bahnweg 6\, 8634 Hombrechtikon
TRANSP:OPAQUE
SEQUENCE:0
UID:54569-veranstaltung@ref-staefa-hombrechtikon.ch
DTSTAMP:20260204T065937Z
DESCRIPTION:Kontakt: Corinne Lang\n\nWeitere Infos:
  https://www.ref-staefa-hombrechtikon.ch/veranstaltung/54569
SUMMARY:Abgesagt - Prisma5 - Blindenmobil 1 Hombi
PRIORITY:5
X-MICROSOFT-CDO-IMPORTANCE:1
CLASS:PUBLIC
END:VEVENT
END:VCALENDAR
