BEGIN:VCALENDAR
PRODID:-//kirchenweb.ch gmbh//veranstaltungsausgabe v2.0//DE
VERSION:2.0
METHOD:PUBLISH
BEGIN:VEVENT
DTSTART:20260813T070000Z
DTEND:20260813T140000Z
LOCATION:Forum Kirchbühl Stäfa\, Kirchbühlstrasse 40\, 8712 Stäfa
TRANSP:OPAQUE
SEQUENCE:0
UID:54563-veranstaltung@ref-staefa-hombrechtikon.ch
DTSTAMP:20260114T142720Z
DESCRIPTION:Kontakt: Corina Hungerbühler\n\nWeitere Infos:
  https://www.ref-staefa-hombrechtikon.ch/veranstaltung/54563
SUMMARY:TaLa Stäfa
PRIORITY:5
X-MICROSOFT-CDO-IMPORTANCE:1
CLASS:PUBLIC
END:VEVENT
END:VCALENDAR
