BEGIN:VCALENDAR
PRODID:-//kirchenweb.ch gmbh//veranstaltungsausgabe v2.0//DE
VERSION:2.0
METHOD:PUBLISH
BEGIN:VEVENT
DTSTART:20260517T150000Z
DTEND:20260517T163000Z
LOCATION:ref. Kirche Hombrechtikon\, Oetwilerstrasse 39\, 8634
  Hombrechtikon
TRANSP:OPAQUE
SEQUENCE:0
UID:54254-veranstaltung@ref-staefa-hombrechtikon.ch
DTSTAMP:20260330T142153Z
DESCRIPTION:Lieder aus dem "Frische Lieder" kennenlernen und gemeinsam
  singen. \nMit Maria Mark und Monika Götte \n\nKontakt: Monika Götte\n
 \nWeitere Infos:
  https://www.ref-staefa-hombrechtikon.ch/veranstaltung/54254
SUMMARY:Frische Lieder im Frühling
PRIORITY:5
X-MICROSOFT-CDO-IMPORTANCE:1
CLASS:PUBLIC
END:VEVENT
END:VCALENDAR
