BEGIN:VCALENDAR
PRODID:-//kirchenweb.ch gmbh//veranstaltungsausgabe v2.0//DE
VERSION:2.0
METHOD:PUBLISH
BEGIN:VEVENT
DTSTART:20270406T080000Z
DTEND:20270406T150000Z
LOCATION:Forum Kirchbühl Stäfa\, \,
TRANSP:OPAQUE
SEQUENCE:0
UID:54007-veranstaltung@ref-staefa-hombrechtikon.ch
DTSTAMP:20260317T102711Z
DESCRIPTION:Tagesbetreuung für Menschen mit Demenz\nEin Angebot für
  Betroffene und Angehörige\n\nWöchentlich können sich Menschen mit
  einer leichten Demenz im Forum Kirchbühl treffen und in einer kleinen
  Gruppe Gemeinschaft und einfache Aktivitäten erleben. \n\nIm
  geschützten Rahmen verbringen sie Zeit mit anderen Betroffenen. \nNebst
  der Projektleitung werden eine Pflegefachfrau sowie Freiwillige für die
  Betreuung und Begleitung anwesend sein. Angehörige\, welche teilnehmen
  möchten\, sind willkommen.\n\nZeit			jeweils dienstags ab 10.00 Uhr bis
  17.00 Uhr\n\nWo		 	Forum Kirchbühl\, Stäfa\n\nKosten		Die Teilnahme ist
  gratis. Das Mittagessen wird zum Selbstkostenpreis verrechnet und wird
  direkt vor Ort bezahlt.\n\nInhalte		Mittagessen\, Spiele\,
  Körperübungen\, Gedächtnistraining\, Kulturelles\, Singen\,
  Spaziergänge u.a.\n\nWer			Der Zischtigs-Treff steht allen Menschen\, 
  unabhängig von der Konfession\, offen.\n\nSind Sie interessiert an einer
  Teilnahme oder möchten Sie mehr über das Angebot wissen?\nOder sind Sie
  interessiert\, sich bei diesem Angebot freiwillig zu engagieren?\nMonika
  Kaspar\n\n\n\n\n\nKontakt: Monika Kaspar\n\nWeitere Infos:
  https://www.ref-staefa-hombrechtikon.ch/veranstaltung/54007
SUMMARY:Zischtigsträff
PRIORITY:5
X-MICROSOFT-CDO-IMPORTANCE:1
CLASS:PUBLIC
END:VEVENT
END:VCALENDAR
