BEGIN:VCALENDAR
PRODID:-//kirchenweb.ch gmbh//veranstaltungsausgabe v2.0//DE
VERSION:2.0
METHOD:PUBLISH
BEGIN:VEVENT
DTSTART:20250105T163000Z
DTEND:20250105T180000Z
LOCATION:ref. Kirche Hombrechtikon\, Oetwilerstrasse 39\, 8634
  Hombrechtikon
TRANSP:OPAQUE
SEQUENCE:0
UID:52844-veranstaltung@ref-staefa-hombrechtikon.ch
DTSTAMP:20241030T095207Z
DESCRIPTION:Orgel im goldenem Glanz\nDas Neujahrskonzert in Hombrechtikon
  spielen zum zweiten Mal der Saxophonist Simon Fluri und die Organistin
  Maria Mark am 5. Januar 2025 um 17:30 Uhr in der Reformierten Kirche
  Hombrechtikon. Diesmal stehen Musik von Tomaso Albinoni\, Tomaso Vitali\,
  Improvisationen\, sowie das Werk «The Poem of the Night» des polnischen
  Komponisten Wojciech Chalupka (*1999) auf dem Programm.\n\nSaxophon und
  Orgel - zwei Instrumente\, die sich auf den ersten Blick kaum miteinander
  vereinbaren lassen\, deren Klänge aber wunderbar ineinanderfliessen. Der
  Gegensatz «modern» und «traditionell» wird bedeutungslos; es entsteht
  Musik\, die fasziniert und berührt. Von barocken Klängen auf dem
  Sopransaxophon\, über Improvisationen auf dem Altsaxophon bis hin zu
  einem eigens für das Duo arrangierten Werk\, werden Klänge ineinander
  verwoben\, Themen entwickelt und bekannte Werke interpretiert.\n
 \nKontakt: Maria Mark\n\nWeitere Infos:
  https://www.ref-staefa-hombrechtikon.ch/veranstaltung/52844
SUMMARY:Neujahrskonzert mit Simon Fluri und Maria Mark
PRIORITY:5
X-MICROSOFT-CDO-IMPORTANCE:1
CLASS:PUBLIC
END:VEVENT
END:VCALENDAR
