BEGIN:VCALENDAR
PRODID:-//kirchenweb.ch gmbh//veranstaltungsausgabe v2.0//DE
VERSION:2.0
METHOD:PUBLISH
BEGIN:VEVENT
DTSTART:20250101T160000Z
DTEND:20250101T170000Z
LOCATION:ref. Kirche Hombrechtikon\, Oetwilerstrasse 35\, 8634
  Hombrechtikon
TRANSP:OPAQUE
SEQUENCE:0
UID:50529-veranstaltung@ref-staefa-hombrechtikon.ch
DTSTAMP:20241129T081108Z
DESCRIPTION:Bitte beachten: Es gibt keinen Fahrdienst von Stäfa.\n\nZum
  neuen Jahr treffen wir uns in alter Tradition am 1.1. um 17 Uhr in der
  Kirche Hombrechtikon zu einem kurzen Gottesdienst. Die biblische
  Jahreslosung für 2025 lautet «Prüft alles und behaltet das Gute!»
  Dieser Satz findet sich am Ende eines Briefes\, den Paulus an die
  Gemeinde in Thessaloniki geschrieben hat. Er passt zum Jahresanfang und
  den guten Vorsätzen\, die man sich für’s neue Jahr vornimmt und die
  dann in der Regel schon nach wenigen Wochen ziemlich alt aussehen. \n\nIm
  Gottesdienst zum Jahresanfang versuchen wir einer Spur zu folgen\, die in
  der Jahreslosung angelegt ist\, und die zwar notwendigerweise auch zum
  Scheitern verurteilt ist\, aber trotzdem ins Glück führt. Seien Sie
  gespannt!\n\nSoyoung Lee Molitor und David Jäger freuen sich auf Sie!\n
 \nKontakt: David Jäger\n\nWeitere Infos:
  https://www.ref-staefa-hombrechtikon.ch/veranstaltung/50529
SUMMARY:Neujahrsgottesdienst
PRIORITY:5
X-MICROSOFT-CDO-IMPORTANCE:1
CLASS:PUBLIC
END:VEVENT
END:VCALENDAR
