BEGIN:VCALENDAR
PRODID:-//kirchenweb.ch gmbh//veranstaltungsausgabe v2.0//DE
VERSION:2.0
METHOD:PUBLISH
BEGIN:VEVENT
DTSTART:20260517T100000Z
DTEND:20260517T110000Z
LOCATION:Forum Kirchbühl\, Kirchbühlstrasse 40\, 8712 Stäfa
TRANSP:OPAQUE
SEQUENCE:0
UID:50128-veranstaltung@ref-staefa-hombrechtikon.ch
DTSTAMP:20251204T145402Z
DESCRIPTION:An diesem Sonntag sind alle Gottesdienstbesucherinnen und
  -besucher herzlich eingeladen bei einem Kaffee\, Tee oder kalten Getränk
  nach dem Gottesdienst im Forum Kirchbühl zu verweilen. In diesem Rahmen
  finden immer wieder gute Gespräche statt und Gemeinschaft untereinander
  kann gelebt und gepflegt werden. Das Freiwilligenteam freut sich auf Sie.
 \n\nMehr Informationen unter
 \nhttp://www.ref-staefa-hombrechtikon.ch/kirchenkaffee\n\nKontakt: Ursula
  Pernet\n\nWeitere Infos:
  https://www.ref-staefa-hombrechtikon.ch/veranstaltung/50128
SUMMARY:Kirchenkaffee
PRIORITY:5
X-MICROSOFT-CDO-IMPORTANCE:1
CLASS:PUBLIC
END:VEVENT
END:VCALENDAR
