BEGIN:VCALENDAR
PRODID:-//kirchenweb.ch gmbh//veranstaltungsausgabe v2.0//DE
VERSION:2.0
METHOD:PUBLISH
BEGIN:VEVENT
DTSTART:20261011T101500Z
DTEND:20261011T120000Z
LOCATION:Forum Kirchbühl\, Kirchbühlstrasse 40\, 8712 Stäfa
TRANSP:OPAQUE
SEQUENCE:0
UID:50093-veranstaltung@ref-staefa-hombrechtikon.ch
DTSTAMP:20260109T140323Z
DESCRIPTION:Nach dem Gottesdienst noch eine Weile zusammen sein\, sich mit
  anderen austauschen\, ein einfaches\, aber feines Mittagessen in
  Gemeinschaft geniessen - das ist Sunntig-Suppe.  Es ist eine schöne
  Gelegenheit Leute zu treffen\, neue Kontakte zu schliessen und am
  Geschehen teilhaben zu können. \nSunntig-Suppe - alle sind herzlich
  eingeladen.\n\nEs gibt Suppe à discrétion mit Brot\, Wasser\,
  selbstgebackenen Kuchen und frischem Kaffee. \nWer ein Glas Wein trinken
  möchte\, kann dieses gegen einen kleinen Betrag kaufen.\n\nZwei
  Freiwilligen-Teams (ein Koch- und ein «Serviceteam») kümmern sich
  engagiert und liebevoll darum\, dass die Gäste an einem schön gedeckten
  Tisch eine schmackhafte\, frisch gekochte Suppe geniessen können. \n
 \nAnmeldung\nEs ist keine Anmeldung erforderlich - es hätt so langs
  hätt. \n\nKosten\nEs kann eine Kollekte für die Unkosten gegeben
  werden. \n\nKuchenspenden\nsind willkommen und können vor dem
  Gottesdienst im Foyer des Forums abgegeben werden.\n\n\n\nKontakt: Ursula
  Pernet\n\nWeitere Infos:
  https://www.ref-staefa-hombrechtikon.ch/veranstaltung/50093
SUMMARY:Sunntig-Suppe
PRIORITY:5
X-MICROSOFT-CDO-IMPORTANCE:1
CLASS:PUBLIC
END:VEVENT
END:VCALENDAR
