BEGIN:VCALENDAR
PRODID:-//kirchenweb.ch gmbh//veranstaltungsausgabe v2.0//DE
VERSION:2.0
METHOD:PUBLISH
BEGIN:VEVENT
DTSTART:20230910T084000Z
DTEND:20230910T094000Z
LOCATION:Forum Kirchbühl\, Kirchbühlstrasse 40\, 8712 Stäfa
TRANSP:OPAQUE
SEQUENCE:0
UID:49186-veranstaltung@ref-staefa-hombrechtikon.ch
DTSTAMP:20230616T073803Z
DESCRIPTION:Auf Wunsch holen wir Sie zuhause ab.\nBitte bis am Vortag bei
  der Fahrerin melden:\n044 926 44 47\n\n\nKontakt: Monika Kaspar\n
 \nWeitere Infos:
  https://www.ref-staefa-hombrechtikon.ch/veranstaltung/49186
SUMMARY:Fahrdienst: Hedi Bacher\, 078 703 30 70
PRIORITY:5
X-MICROSOFT-CDO-IMPORTANCE:1
CLASS:PUBLIC
END:VEVENT
END:VCALENDAR
