BEGIN:VCALENDAR
PRODID:-//kirchenweb.ch gmbh//veranstaltungsausgabe v2.0//DE
VERSION:2.0
METHOD:PUBLISH
BEGIN:VEVENT
DTSTART:20241231T220000Z
DTEND:20241231T223000Z
LOCATION:ref. Kirche Hombrechtikon\, Oetwilerstrasse 35\, 8634
  Hombrechtikon
TRANSP:OPAQUE
SEQUENCE:0
UID:48159-veranstaltung@ref-staefa-hombrechtikon.ch
DTSTAMP:20240208T090959Z
DESCRIPTION:Turmbläsermusik zum Jahresausklang\nZum Jahresende spielen
  die Trompeter/in Rolf Limacher und Brigitte Nanz schöne feierliche Werke
  vom Kirchturm.\nDienstag 31. Dezember 2024um 23.00 Uhr Reformierte Kirche
  Hombrechtikon\n\nKontakt: \n👤 keine Angaben\n\nWeitere Infos:
  https://www.ref-staefa-hombrechtikon.ch/veranstaltung/48159
SUMMARY:Konzert Turmbläsermusik
PRIORITY:5
X-MICROSOFT-CDO-IMPORTANCE:1
CLASS:PUBLIC
END:VEVENT
END:VCALENDAR
