BEGIN:VCALENDAR
PRODID:-//kirchenweb.ch gmbh//veranstaltungsausgabe v2.0//DE
VERSION:2.0
METHOD:PUBLISH
BEGIN:VEVENT
DTSTART:20230912T083000Z
DTEND:20230912T093000Z
LOCATION:Alters- und Pflegeheim Sonnengarten\, Etzelstrasse 6\, 8634
  Hombrechtikon
TRANSP:OPAQUE
SEQUENCE:0
UID:47568-veranstaltung@ref-staefa-hombrechtikon.ch
DTSTAMP:20221218T211601Z
DESCRIPTION:mit Abendmahl\n\nKontakt: Marc Heise\n\nWeitere Infos:
  https://www.ref-staefa-hombrechtikon.ch/veranstaltung/47568
SUMMARY:Andacht im Alters- und Pflegeheim Sonnengarten
PRIORITY:5
X-MICROSOFT-CDO-IMPORTANCE:1
CLASS:PUBLIC
END:VEVENT
END:VCALENDAR
