BEGIN:VCALENDAR
PRODID:-//kirchenweb.ch gmbh//veranstaltungsausgabe v2.0//DE
VERSION:2.0
METHOD:PUBLISH
BEGIN:VEVENT
DTSTART:20230912T080000Z
DTEND:20230912T091500Z
LOCATION:ref. Kirche Hombrechtikon\, Oetwilerstrasse 35\, 8634
  Hombrechtikon
TRANSP:OPAQUE
SEQUENCE:0
UID:47431-veranstaltung@ref-staefa-hombrechtikon.ch
DTSTAMP:20230309T101347Z
DESCRIPTION:Kontakt: David Jäger\n\nWeitere Infos:
  https://www.ref-staefa-hombrechtikon.ch/veranstaltung/47431
SUMMARY:Bewegte Meditation
PRIORITY:5
X-MICROSOFT-CDO-IMPORTANCE:1
CLASS:PUBLIC
END:VEVENT
END:VCALENDAR
