BEGIN:VCALENDAR
PRODID:-//kirchenweb.ch gmbh//veranstaltungsausgabe v2.0//DE
VERSION:2.0
METHOD:PUBLISH
BEGIN:VEVENT
DTSTART:20230907T180000Z
DTEND:20230907T190000Z
LOCATION:kath. Kirche Hombrechtikon\, \,
TRANSP:OPAQUE
SEQUENCE:0
UID:46971-veranstaltung@ref-staefa-hombrechtikon.ch
DTSTAMP:20230720T124638Z
DESCRIPTION:Menschen aus Hombrechtikon beten für verschiedene Anliegen.
 \nWir beten miteinander und füreinander.\nIm Gebet können wir uns Halt
  schenken und auch Trost und Kraft von Gott erbitten.\nDas Gebet findet
  abwechselnd in den fünf Kirchen/Gemeinden von Hombrechtikon statt.\n
 \nTermin 2023:\nDonnerstag\, 26.1.2023 in der EMK\nDonnerstag\, 23.3.2023
  in der Sennhütte\nDonnerstag\, 8.6.2023 in der reformierten Kirche
 \nDonnerstag\, 7.9.2023 in der katholischen Kirche\nDonnerstag\,
  23.11.2023 in der Vineyard\n\n\nKontakt: David Jäger\n\nWeitere Infos:
  https://www.ref-staefa-hombrechtikon.ch/veranstaltung/46971
SUMMARY:Gebet für Hombi
PRIORITY:5
X-MICROSOFT-CDO-IMPORTANCE:1
CLASS:PUBLIC
END:VEVENT
END:VCALENDAR
