BEGIN:VCALENDAR
PRODID:-//kirchenweb.ch gmbh//veranstaltungsausgabe v2.0//DE
VERSION:2.0
METHOD:PUBLISH
BEGIN:VEVENT
DTSTART:20230911T060000Z
DTEND:20230911T070000Z
LOCATION:Kirchgemeinde Stäfa-Hombrechtikon\, \,
TRANSP:OPAQUE
SEQUENCE:0
UID:46308-veranstaltung@ref-staefa-hombrechtikon.ch
DTSTAMP:20230822T130453Z
DESCRIPTION:11. und 14.9. Amtstage gesperrt\n\n\nKontakt: David Jäger\n
 \nWeitere Infos:
  https://www.ref-staefa-hombrechtikon.ch/veranstaltung/46308
SUMMARY:Amtswoche 37 - David Jäger
PRIORITY:5
X-MICROSOFT-CDO-IMPORTANCE:1
CLASS:PUBLIC
END:VEVENT
END:VCALENDAR
