BEGIN:VCALENDAR
PRODID:-//kirchenweb.ch gmbh//veranstaltungsausgabe v2.0//DE
VERSION:2.0
METHOD:PUBLISH
BEGIN:VEVENT
DTSTART:20230910T071500Z
DTEND:20230910T081500Z
LOCATION:ref. Kirche Hombrechtikon\, Oetwilerstrasse 35\, 8634
  Hombrechtikon
TRANSP:OPAQUE
SEQUENCE:0
UID:46251-veranstaltung@ref-staefa-hombrechtikon.ch
DTSTAMP:20230904T142728Z
DESCRIPTION:Am 10. September wird unsere neue Pfarrerin Elisabeth Görnitz
  zum ersten Mal mit unserer Gemeinde Gottesdienst feiern\, in
  Hombrechtikon und Stäfa. Zum ihrem «Einstieg» wird der bekannte
  Schweizer Saxophonist Simon Fluri\, gemeinsam mit unserer Organistin
  Maria Mark\, den Got-tesdienst musikalisch bereichern. \n\nSimon Fluri
  ist leidenschaftlicher Solist und Kammermusiker. Von zeitgenössischen
  Werken bis zu Transkriptionen von Bach lässt er das Saxophon in einem
  neuen Licht erklingen. \n\nMit Enthusiasmus tritt er regelmässig mit
  seinem Duo Kaamos und im Lamineur-Quartett auf. Er konzertierte unter
  anderem im KKL\, in der Tonhalle Zürich und im Casino Bern sowie an
  Festi-vals wie die St. Galler Festspiele\, Arosa Klassik\, La Prairie
  Bellmund\, Alpen Classica\, dem Saxo-phonkongress in Strasbourg und dem
  SaxFest Zürich\, das er auch mitorganisierte. Gleich zweimal wurde der
  Saxophonist mit dem Studienpreis des Migros-Kulturprozent ausgezeichnet
  und wurde in dessen Konzertvermittlung aufgenommen. Weitere Preise holte
  er am Alpen Classica Festival\, bei der Yamaha Europe Music Foundation\,
  dem Lions Club Musikwettbewerb\, dem Cibulka Wettbewerb und zweimal mit
  Auszeichnung beim Schweizer Jugendmusikwettbewerb. Ausserdem ist er ein
  Hans-Schaeuble-Award Preisträger und wurde von der Hirschmann-Stiftung
  unterstützt.\n\nDer Schweizer Musiker wurde 1999 in Kanada geboren. Er
  entdeckte seine Begeisterung für das Saxophon bei seinem Lehrer
  Christian Roellinger. Während der gymnasialen Ausbildung besuchte er die
  Talentförderung Hofwil und konnte bereits parallel zur schulischen
  Ausbildung das Musikstudium aufnehmen. Er absolvierte 2018 den Bachelor
  und 2020 den Master of Pedagogy mit Auszeichnung an der Hochschule der
  Künste Bern. Den Master of Specialized Music Per-formance mit der
  Vertiefung Solist erwarb er 2023 an der Zürcher Hochschule der Künste
  in der renommierten Klasse von Lars Mlekusch. Während seinem Studium
  hatte er die Möglichkeit an der Sibelius Academy in Helsinki von
  Joonatan Rautiola zu lernen. Seit mehreren Jahren vermittelt er seine
  Leidenschaft auch an seine eigenen SchülerInnen.\n\nKinder im
  Gottesdienst\nKinder sind im Gottesdienst herzlich willkommen. Beim
  Eingang der Kirche steht für sie die Kinderecke zur Verfügung\, die zum
  Geschichten hören mit der Tonie-Box\, lesen\, malen und leise spielen
  einlädt. Eltern können in den angrenzenden Kirchenbänken unmittelbar
  daneben gerne Platz nehmen.\n\nKontakt: Elisabeth Görnitz\n\nWeitere
  Infos: https://www.ref-staefa-hombrechtikon.ch/veranstaltung/46251
SUMMARY:Gottesdienst
PRIORITY:5
X-MICROSOFT-CDO-IMPORTANCE:1
CLASS:PUBLIC
END:VEVENT
END:VCALENDAR
